BEGIN:VCALENDAR
VERSION:2.0
PRODID:-//wp-events-plugin.com//7.2.3.1//EN
TZID:America/New_York
X-WR-TIMEZONE:America/New_York
BEGIN:VEVENT
UID:16@ajlegacyfoundation.org
DTSTART;TZID=America/New_York:20251027T123000
DTEND;TZID=America/New_York:20251027T143000
DTSTAMP:20251017T172857Z
URL:https://ajlegacyfoundation.org/events/beaute-pathways-27-oct/
SUMMARY:Beaute Pathways 27-Oct
DESCRIPTION:Monthly workshops introducing beauty school students to diverse
  beauty careers\nGUEST SPEAKERS: Irene Dele Adejumo | Salewa Ojo
ATTACH;FMTTYPE=image/jpeg:https://ajlegacyfoundation.org/wp-content/upload
 s/2025/10/irene-salewa2.jpg
CATEGORIES:Beaute Pathways
LOCATION:Germantown\,  13017 Wisteria Dr\,\, Germantown\, Maryland\, 20874\
 , United States
GEO:39.178753;-77.270713
X-APPLE-STRUCTURED-LOCATION;VALUE=URI;X-ADDRESS= 13017 Wisteria Dr\,\, Germ
 antown\, Maryland\, 20874\, United States;X-APPLE-RADIUS=100;X-TITLE=Germa
 ntown:geo:39.178753,-77.270713
END:VEVENT
BEGIN:VTIMEZONE
TZID:America/New_York
X-LIC-LOCATION:America/New_York
BEGIN:DAYLIGHT
DTSTART:20250309T030000
TZOFFSETFROM:-0500
TZOFFSETTO:-0400
TZNAME:EDT
END:DAYLIGHT
END:VTIMEZONE
END:VCALENDAR