BEGIN:VCALENDAR
VERSION:2.0
PRODID:-//wp-events-plugin.com//7.2.3.1//EN
TZID:America/New_York
X-WR-TIMEZONE:America/New_York
BEGIN:VEVENT
UID:9@ajlegacyfoundation.org
DTSTART;TZID=America/New_York:20251114T123000
DTEND;TZID=America/New_York:20251114T143000
DTSTAMP:20251016T233501Z
URL:https://ajlegacyfoundation.org/events/the-beaute-boost/
SUMMARY:The Beaute Boost Nov 14th
DESCRIPTION:Providing hair\, nails\, and skin services to the community in 
 partnership with AJLF partner schools
ATTACH;FMTTYPE=image/jpeg:https://ajlegacyfoundation.org/wp-content/upload
 s/2025/10/BEAUTE-BOOST-event-cover2.jpg
CATEGORIES:AJLF,Beaute Boost
LOCATION:Germantown\,  13017 Wisteria Dr\,\, Germantown\, Maryland\, 20874\
 , United States
GEO:39.178753;-77.270713
X-APPLE-STRUCTURED-LOCATION;VALUE=URI;X-ADDRESS= 13017 Wisteria Dr\,\, Germ
 antown\, Maryland\, 20874\, United States;X-APPLE-RADIUS=100;X-TITLE=Germa
 ntown:geo:39.178753,-77.270713
END:VEVENT
BEGIN:VTIMEZONE
TZID:America/New_York
X-LIC-LOCATION:America/New_York
BEGIN:STANDARD
DTSTART:20251102T010000
TZOFFSETFROM:-0400
TZOFFSETTO:-0500
TZNAME:EST
END:STANDARD
END:VTIMEZONE
END:VCALENDAR