BEGIN:VCALENDAR
VERSION:2.0
PRODID:-//wp-events-plugin.com//7.2.3.1//EN
TZID:America/New_York
X-WR-TIMEZONE:America/New_York
BEGIN:VEVENT
UID:8@ajlegacyfoundation.org
DTSTART;TZID=America/New_York:20251010T170000
DTEND;TZID=America/New_York:20251010T210000
DTSTAMP:20251016T230600Z
URL:https://ajlegacyfoundation.org/events/warrior-glam/
SUMMARY:Warrior Glam
DESCRIPTION:To honor and uplift breast cancer patients and survivors by off
 ering full glam makeovers and professional photoshoots in a loving\, affir
 ming\, and celebratory environment.
ATTACH;FMTTYPE=image/jpeg:https://ajlegacyfoundation.org/wp-content/upload
 s/2025/09/Warrior-Glam-Flyer-1.jpg
CATEGORIES:Community Events
END:VEVENT
BEGIN:VTIMEZONE
TZID:America/New_York
X-LIC-LOCATION:America/New_York
BEGIN:DAYLIGHT
DTSTART:20250309T030000
TZOFFSETFROM:-0500
TZOFFSETTO:-0400
TZNAME:EDT
END:DAYLIGHT
END:VTIMEZONE
END:VCALENDAR